BEGIN:VCALENDAR
VERSION:2.0
PRODID:-//NOR 92 - ECPv6.15.9//NONSGML v1.0//EN
CALSCALE:GREGORIAN
METHOD:PUBLISH
X-WR-CALNAME:NOR 92
X-ORIGINAL-URL:https://nor92.com
X-WR-CALDESC:Arrangement for NOR 92
REFRESH-INTERVAL;VALUE=DURATION:PT1H
X-Robots-Tag:noindex
X-PUBLISHED-TTL:PT1H
BEGIN:VTIMEZONE
TZID:UTC
BEGIN:STANDARD
TZOFFSETFROM:+0000
TZOFFSETTO:+0000
TZNAME:UTC
DTSTART:20230101T000000
END:STANDARD
END:VTIMEZONE
BEGIN:VEVENT
DTSTART;TZID=UTC:20241116T114000
DTEND;TZID=UTC:20241116T140000
DTSTAMP:20260422T074751
CREATED:20241113T140759Z
LAST-MODIFIED:20241113T140826Z
UID:6497-1731757200-1731765600@nor92.com
SUMMARY:Minirunde | Bakkeløkka Flerbrukshall
DESCRIPTION:Gutter Micro 8-9 år\nkl. 11.40 Asker – NOR 92\nkl. 12.20 NOR 92 – Holmlia\nkl. 13.00 Monolitten Rød – NOR 92\nkl. 13.40 NOR 92 – Tunet Lilla
URL:https://nor92.com/event/minrunde-bakkelokka/
END:VEVENT
END:VCALENDAR