BEGIN:VCALENDAR
VERSION:2.0
PRODID:-//NOR 92 - ECPv6.15.9//NONSGML v1.0//EN
CALSCALE:GREGORIAN
METHOD:PUBLISH
X-WR-CALNAME:NOR 92
X-ORIGINAL-URL:https://nor92.com
X-WR-CALDESC:Arrangement for NOR 92
REFRESH-INTERVAL;VALUE=DURATION:PT1H
X-Robots-Tag:noindex
X-PUBLISHED-TTL:PT1H
BEGIN:VTIMEZONE
TZID:UTC
BEGIN:STANDARD
TZOFFSETFROM:+0000
TZOFFSETTO:+0000
TZNAME:UTC
DTSTART:20240101T000000
END:STANDARD
END:VTIMEZONE
BEGIN:VEVENT
DTSTART;TZID=UTC:20250108T190000
DTEND;TZID=UTC:20250108T210000
DTSTAMP:20260422T051302
CREATED:20250103T160929Z
LAST-MODIFIED:20250103T160929Z
UID:6871-1736362800-1736370000@nor92.com
SUMMARY:NOR 92 - Slevik | Mjøndalshallen
DESCRIPTION:Eliteserien\, menn
URL:https://nor92.com/event/nor-92-slevik-mjondalshallen/
END:VEVENT
END:VCALENDAR