BEGIN:VCALENDAR
VERSION:2.0
PRODID:-//NOR 92 - ECPv6.15.9//NONSGML v1.0//EN
CALSCALE:GREGORIAN
METHOD:PUBLISH
X-ORIGINAL-URL:https://nor92.com
X-WR-CALDESC:Arrangement for NOR 92
REFRESH-INTERVAL;VALUE=DURATION:PT1H
X-Robots-Tag:noindex
X-PUBLISHED-TTL:PT1H
BEGIN:VTIMEZONE
TZID:UTC
BEGIN:STANDARD
TZOFFSETFROM:+0000
TZOFFSETTO:+0000
TZNAME:UTC
DTSTART:20240101T000000
END:STANDARD
END:VTIMEZONE
BEGIN:VEVENT
DTSTART;TZID=UTC:20250126T153000
DTEND;TZID=UTC:20250126T170000
DTSTAMP:20260422T051817
CREATED:20250120T180935Z
LAST-MODIFIED:20250120T180935Z
UID:7215-1737905400-1737910800@nor92.com
SUMMARY:NOR 92 G14 - Tunet 2 | Mjøndalshallen
DESCRIPTION:G14\, 2. divisjon
URL:https://nor92.com/event/nor-92-g14-tunet-mjondalshallen/
END:VEVENT
END:VCALENDAR