BEGIN:VCALENDAR
VERSION:2.0
PRODID:-//NOR 92 - ECPv6.15.9//NONSGML v1.0//EN
CALSCALE:GREGORIAN
METHOD:PUBLISH
X-ORIGINAL-URL:https://nor92.com
X-WR-CALDESC:Arrangement for NOR 92
REFRESH-INTERVAL;VALUE=DURATION:PT1H
X-Robots-Tag:noindex
X-PUBLISHED-TTL:PT1H
BEGIN:VTIMEZONE
TZID:UTC
BEGIN:STANDARD
TZOFFSETFROM:+0000
TZOFFSETTO:+0000
TZNAME:UTC
DTSTART:20240101T000000
END:STANDARD
END:VTIMEZONE
BEGIN:VEVENT
DTSTART;TZID=UTC:20250305T203000
DTEND;TZID=UTC:20250305T220000
DTSTAMP:20260422T023412
CREATED:20250302T155215Z
LAST-MODIFIED:20250302T155215Z
UID:7725-1741206600-1741212000@nor92.com
SUMMARY:Greåker - NOR 92 U23 | Tindlundhallen
DESCRIPTION:U23\, Elite
URL:https://nor92.com/event/greaker-nor-92-u23-tindlundhallen/
END:VEVENT
END:VCALENDAR