BEGIN:VCALENDAR
VERSION:2.0
PRODID:-//NOR 92 - ECPv6.15.9//NONSGML v1.0//EN
CALSCALE:GREGORIAN
METHOD:PUBLISH
X-WR-CALNAME:NOR 92
X-ORIGINAL-URL:https://nor92.com
X-WR-CALDESC:Arrangement for NOR 92
REFRESH-INTERVAL;VALUE=DURATION:PT1H
X-Robots-Tag:noindex
X-PUBLISHED-TTL:PT1H
BEGIN:VTIMEZONE
TZID:UTC
BEGIN:STANDARD
TZOFFSETFROM:+0000
TZOFFSETTO:+0000
TZNAME:UTC
DTSTART:20240101T000000
END:STANDARD
END:VTIMEZONE
BEGIN:VEVENT
DTSTART;TZID=UTC:20250321T200000
DTEND;TZID=UTC:20250321T213000
DTSTAMP:20260422T023119
CREATED:20250302T161846Z
LAST-MODIFIED:20250302T161846Z
UID:7741-1742587200-1742592600@nor92.com
SUMMARY:NOR 92-2 - Østensjø  | Mjøndalshallen
DESCRIPTION:2. divisjon\, menn
URL:https://nor92.com/event/nor-92-2-ostensjo-mjondalshallen/
END:VEVENT
END:VCALENDAR