BEGIN:VCALENDAR
VERSION:2.0
PRODID:-//NOR 92 - ECPv6.15.9//NONSGML v1.0//EN
CALSCALE:GREGORIAN
METHOD:PUBLISH
X-ORIGINAL-URL:https://nor92.com
X-WR-CALDESC:Arrangement for NOR 92
REFRESH-INTERVAL;VALUE=DURATION:PT1H
X-Robots-Tag:noindex
X-PUBLISHED-TTL:PT1H
BEGIN:VTIMEZONE
TZID:UTC
BEGIN:STANDARD
TZOFFSETFROM:+0000
TZOFFSETTO:+0000
TZNAME:UTC
DTSTART:20240101T000000
END:STANDARD
END:VTIMEZONE
BEGIN:VEVENT
DTSTART;TZID=UTC:20250323T100000
DTEND;TZID=UTC:20250323T111500
DTSTAMP:20260422T023406
CREATED:20250302T162040Z
LAST-MODIFIED:20250302T162040Z
UID:7743-1742724000-1742728500@nor92.com
SUMMARY:NOR 92 G12 - Grei | Mjøndalshallen
DESCRIPTION:G12
URL:https://nor92.com/event/nor-92-g12-grei-mjondalshallen/
END:VEVENT
BEGIN:VEVENT
DTSTART;TZID=UTC:20250323T111500
DTEND;TZID=UTC:20250323T123000
DTSTAMP:20260422T023406
CREATED:20250302T162200Z
LAST-MODIFIED:20250302T163206Z
UID:7745-1742728500-1742733000@nor92.com
SUMMARY:Strømmen - NOR 92 G14 | Slorahallen
DESCRIPTION:G14\, Sluttspill C
URL:https://nor92.com/event/strommen-nor-92-g14-slorahallen/
END:VEVENT
BEGIN:VEVENT
DTSTART;TZID=UTC:20250323T150000
DTEND;TZID=UTC:20250323T163000
DTSTAMP:20260422T023406
CREATED:20250302T163440Z
LAST-MODIFIED:20250302T163440Z
UID:7747-1742742000-1742747400@nor92.com
SUMMARY:Slevik - NOR 92 U23 | Gressvikhallen
DESCRIPTION:U23\, Elite
URL:https://nor92.com/event/slevik-nor-92-u23-gressvikhallen/
END:VEVENT
END:VCALENDAR