BEGIN:VCALENDAR
VERSION:2.0
PRODID:-//NOR 92 - ECPv6.15.9//NONSGML v1.0//EN
CALSCALE:GREGORIAN
METHOD:PUBLISH
X-ORIGINAL-URL:https://nor92.com
X-WR-CALDESC:Arrangement for NOR 92
REFRESH-INTERVAL;VALUE=DURATION:PT1H
X-Robots-Tag:noindex
X-PUBLISHED-TTL:PT1H
BEGIN:VTIMEZONE
TZID:UTC
BEGIN:STANDARD
TZOFFSETFROM:+0000
TZOFFSETTO:+0000
TZNAME:UTC
DTSTART:20240101T000000
END:STANDARD
END:VTIMEZONE
BEGIN:VEVENT
DTSTART;TZID=UTC:20250906T140000
DTEND;TZID=UTC:20250906T160000
DTSTAMP:20260421T190519
CREATED:20250812T113400Z
LAST-MODIFIED:20250812T115328Z
UID:8249-1757167200-1757174400@nor92.com
SUMMARY:Vänersborg - NOR 92 | Frigghallen
DESCRIPTION:Treningskamp
URL:https://nor92.com/event/vanersborg-nor-92-frigghallen/
END:VEVENT
END:VCALENDAR