BEGIN:VCALENDAR
VERSION:2.0
PRODID:-//NOR 92 - ECPv6.15.9//NONSGML v1.0//EN
CALSCALE:GREGORIAN
METHOD:PUBLISH
X-WR-CALNAME:NOR 92
X-ORIGINAL-URL:https://nor92.com
X-WR-CALDESC:Arrangement for NOR 92
REFRESH-INTERVAL;VALUE=DURATION:PT1H
X-Robots-Tag:noindex
X-PUBLISHED-TTL:PT1H
BEGIN:VTIMEZONE
TZID:UTC
BEGIN:STANDARD
TZOFFSETFROM:+0000
TZOFFSETTO:+0000
TZNAME:UTC
DTSTART:20240101T000000
END:STANDARD
END:VTIMEZONE
BEGIN:VEVENT
DTSTART;TZID=UTC:20250907T140000
DTEND;TZID=UTC:20250907T160000
DTSTAMP:20260421T190212
CREATED:20250812T113516Z
LAST-MODIFIED:20250812T113533Z
UID:8251-1757253600-1757260800@nor92.com
SUMMARY:Stenungsund - NOR 92 | Hallernaskolans Idrottshall
DESCRIPTION:Treningskamp
URL:https://nor92.com/event/stenungsund-nor-92-hallernaskolans-idrottshall/
END:VEVENT
END:VCALENDAR