BEGIN:VCALENDAR
VERSION:2.0
PRODID:-//NOR 92 - ECPv6.15.9//NONSGML v1.0//EN
CALSCALE:GREGORIAN
METHOD:PUBLISH
X-WR-CALNAME:NOR 92
X-ORIGINAL-URL:https://nor92.com
X-WR-CALDESC:Arrangement for NOR 92
REFRESH-INTERVAL;VALUE=DURATION:PT1H
X-Robots-Tag:noindex
X-PUBLISHED-TTL:PT1H
BEGIN:VTIMEZONE
TZID:UTC
BEGIN:STANDARD
TZOFFSETFROM:+0000
TZOFFSETTO:+0000
TZNAME:UTC
DTSTART:20240101T000000
END:STANDARD
END:VTIMEZONE
BEGIN:VEVENT
DTSTART;TZID=UTC:20250912T193000
DTEND;TZID=UTC:20250912T200000
DTSTAMP:20260421T202337
CREATED:20250912T172215Z
LAST-MODIFIED:20250912T172215Z
UID:8573-1757705400-1757707200@nor92.com
SUMMARY:NOR 92/Horten G15 - Tunet Lilla | Installatørene B
DESCRIPTION:Plankecup
URL:https://nor92.com/event/nor-92-horten-g15-tunet-lilla-installatorene-b/
END:VEVENT
BEGIN:VEVENT
DTSTART;TZID=UTC:20250912T193000
DTEND;TZID=UTC:20250912T203000
DTSTAMP:20260421T202337
CREATED:20250912T172418Z
LAST-MODIFIED:20250912T172715Z
UID:8577-1757705400-1757709000@nor92.com
SUMMARY:NOR 92 G/J13 - Strømmen | Installatørene C
DESCRIPTION:Plankecup
URL:https://nor92.com/event/nor-92-horten-g15-lambertseter-installatorene-e/
END:VEVENT
END:VCALENDAR