BEGIN:VCALENDAR
VERSION:2.0
PRODID:-//NOR 92 - ECPv6.15.9//NONSGML v1.0//EN
CALSCALE:GREGORIAN
METHOD:PUBLISH
X-WR-CALNAME:NOR 92
X-ORIGINAL-URL:https://nor92.com
X-WR-CALDESC:Arrangement for NOR 92
REFRESH-INTERVAL;VALUE=DURATION:PT1H
X-Robots-Tag:noindex
X-PUBLISHED-TTL:PT1H
BEGIN:VTIMEZONE
TZID:UTC
BEGIN:STANDARD
TZOFFSETFROM:+0000
TZOFFSETTO:+0000
TZNAME:UTC
DTSTART:20240101T000000
END:STANDARD
END:VTIMEZONE
BEGIN:VEVENT
DTSTART;TZID=UTC:20250913T093000
DTEND;TZID=UTC:20250913T103000
DTSTAMP:20260421T190226
CREATED:20250912T172700Z
LAST-MODIFIED:20250912T172700Z
UID:8581-1757755800-1757759400@nor92.com
SUMMARY:Slevik G/J13 - NOR 92 G/J13 | Installatørene D
DESCRIPTION:Plankecup
URL:https://nor92.com/event/slevik-g-j13-nor-92-g-j13-installatorene-d/
END:VEVENT
BEGIN:VEVENT
DTSTART;TZID=UTC:20250913T102000
DTEND;TZID=UTC:20250913T105000
DTSTAMP:20260421T190226
CREATED:20250912T171725Z
LAST-MODIFIED:20250912T171725Z
UID:8565-1757758800-1757760600@nor92.com
SUMMARY:Tunet - NOR 92 G/J9 | Majorstuen Flerbrukshall
DESCRIPTION:Minirunde
URL:https://nor92.com/event/tunet-nor-92-g-j9-majorstuen-flerbrukshall/
END:VEVENT
BEGIN:VEVENT
DTSTART;TZID=UTC:20250913T110000
DTEND;TZID=UTC:20250913T113000
DTSTAMP:20260421T190226
CREATED:20250912T171825Z
LAST-MODIFIED:20250912T171825Z
UID:8567-1757761200-1757763000@nor92.com
SUMMARY:NOR 92 G/J9 - Akerselva | Majorstuen Flerbrukshall
DESCRIPTION:Minirunde
URL:https://nor92.com/event/nor-92-g-j9-akerselva-majorstuen-flerbrukshall/
END:VEVENT
BEGIN:VEVENT
DTSTART;TZID=UTC:20250913T114000
DTEND;TZID=UTC:20250913T121000
DTSTAMP:20260421T190226
CREATED:20250912T171914Z
LAST-MODIFIED:20250912T171914Z
UID:8569-1757763600-1757765400@nor92.com
SUMMARY:Sterling - NOR 92 G/J9 | Majorstuen Flerbrukshall
DESCRIPTION:Minirunde
URL:https://nor92.com/event/sterling-nor-92-g-j9-majorstuen-flerbrukshall/
END:VEVENT
BEGIN:VEVENT
DTSTART;TZID=UTC:20250913T120000
DTEND;TZID=UTC:20250913T123000
DTSTAMP:20260421T190226
CREATED:20250912T171950Z
LAST-MODIFIED:20250912T171950Z
UID:8571-1757764800-1757766600@nor92.com
SUMMARY:NOR 92 G/J9 - Holmlia | Majorstuen Flerbrukshall
DESCRIPTION:Minirunde
URL:https://nor92.com/event/nor-92-g-j9-holmlia-majorstuen-flerbrukshall/
END:VEVENT
BEGIN:VEVENT
DTSTART;TZID=UTC:20250913T120000
DTEND;TZID=UTC:20250913T130000
DTSTAMP:20260421T190226
CREATED:20250912T172323Z
LAST-MODIFIED:20250912T172323Z
UID:8575-1757764800-1757768400@nor92.com
SUMMARY:Øverby IBK - NOR 92/Horten G15 | Installatørene B
DESCRIPTION:Plankecup
URL:https://nor92.com/event/overby-ibk-nor-92-horten-g15-installatorene-b/
END:VEVENT
BEGIN:VEVENT
DTSTART;TZID=UTC:20250913T141500
DTEND;TZID=UTC:20250913T151500
DTSTAMP:20260421T190226
CREATED:20250912T172835Z
LAST-MODIFIED:20250912T172835Z
UID:8584-1757772900-1757776500@nor92.com
SUMMARY:Råde IL - NOR 92 G/J13 | Gressvikhallen
DESCRIPTION:Plankecup
URL:https://nor92.com/event/rade-il-nor-92-g-j13-gressvikhallen/
END:VEVENT
END:VCALENDAR