BEGIN:VCALENDAR
VERSION:2.0
PRODID:-//NOR 92 - ECPv6.15.9//NONSGML v1.0//EN
CALSCALE:GREGORIAN
METHOD:PUBLISH
X-WR-CALNAME:NOR 92
X-ORIGINAL-URL:https://nor92.com
X-WR-CALDESC:Arrangement for NOR 92
REFRESH-INTERVAL;VALUE=DURATION:PT1H
X-Robots-Tag:noindex
X-PUBLISHED-TTL:PT1H
BEGIN:VTIMEZONE
TZID:UTC
BEGIN:STANDARD
TZOFFSETFROM:+0000
TZOFFSETTO:+0000
TZNAME:UTC
DTSTART:20240101T000000
END:STANDARD
END:VTIMEZONE
BEGIN:VEVENT
DTSTART;TZID=UTC:20251011T120000
DTEND;TZID=UTC:20251011T130000
DTSTAMP:20260421T174005
CREATED:20250929T143413Z
LAST-MODIFIED:20250929T143413Z
UID:8846-1760184000-1760187600@nor92.com
SUMMARY:NOR 92 G11 - Fet | Ellingsrudhallen
DESCRIPTION:Gutter 11\, nivå 2\, avd. B
URL:https://nor92.com/event/nor-92-g11-fet-ellingsrudhallen/
END:VEVENT
BEGIN:VEVENT
DTSTART;TZID=UTC:20251011T141500
DTEND;TZID=UTC:20251011T151500
DTSTAMP:20260421T174005
CREATED:20250929T143516Z
LAST-MODIFIED:20250929T143516Z
UID:8848-1760192100-1760195700@nor92.com
SUMMARY:Østensjø - NOR 92 G11 | Ellingsrudhallen
DESCRIPTION:Gutter 11\, nivå 2\, avd. B
URL:https://nor92.com/event/ostensjo-nor-92-g11-ellingsrudhallen/
END:VEVENT
BEGIN:VEVENT
DTSTART;TZID=UTC:20251011T150000
DTEND;TZID=UTC:20251011T170000
DTSTAMP:20260421T174005
CREATED:20250929T142304Z
LAST-MODIFIED:20250929T142304Z
UID:8828-1760194800-1760202000@nor92.com
SUMMARY:Harstad- NOR 92 | Harstadhallen
DESCRIPTION:Eliteserien\, menn
URL:https://nor92.com/event/harstad-nor-92-harstadhallen-2/
END:VEVENT
END:VCALENDAR