BEGIN:VCALENDAR
VERSION:2.0
PRODID:-//NOR 92 - ECPv6.15.9//NONSGML v1.0//EN
CALSCALE:GREGORIAN
METHOD:PUBLISH
X-WR-CALNAME:NOR 92
X-ORIGINAL-URL:https://nor92.com
X-WR-CALDESC:Arrangement for NOR 92
REFRESH-INTERVAL;VALUE=DURATION:PT1H
X-Robots-Tag:noindex
X-PUBLISHED-TTL:PT1H
BEGIN:VTIMEZONE
TZID:UTC
BEGIN:STANDARD
TZOFFSETFROM:+0000
TZOFFSETTO:+0000
TZNAME:UTC
DTSTART:20240101T000000
END:STANDARD
END:VTIMEZONE
BEGIN:VEVENT
DTSTART;TZID=UTC:20251018T104500
DTEND;TZID=UTC:20251018T121500
DTSTAMP:20260421T173931
CREATED:20250930T073812Z
LAST-MODIFIED:20250930T073812Z
UID:8864-1760784300-1760789700@nor92.com
SUMMARY:Monolitten - NOR 92 G15 | Skøyenhallen
DESCRIPTION:Gutter 15\, avd. A
URL:https://nor92.com/event/monolitten-nor-92-g15-skoyenhallen/
END:VEVENT
BEGIN:VEVENT
DTSTART;TZID=UTC:20251018T153000
DTEND;TZID=UTC:20251018T170000
DTSTAMP:20260421T173931
CREATED:20250929T142852Z
LAST-MODIFIED:20250929T142852Z
UID:8838-1760801400-1760806800@nor92.com
SUMMARY:Sveiva 2 - NOR 92-2 | Rommenhallen
DESCRIPTION:2. divisjon avd. B\, menn
URL:https://nor92.com/event/sveiva-2-nor-92-2-rommenhallen/
END:VEVENT
END:VCALENDAR