BEGIN:VCALENDAR
VERSION:2.0
PRODID:-//NOR 92 - ECPv6.15.9//NONSGML v1.0//EN
CALSCALE:GREGORIAN
METHOD:PUBLISH
X-ORIGINAL-URL:https://nor92.com
X-WR-CALDESC:Arrangement for NOR 92
REFRESH-INTERVAL;VALUE=DURATION:PT1H
X-Robots-Tag:noindex
X-PUBLISHED-TTL:PT1H
BEGIN:VTIMEZONE
TZID:UTC
BEGIN:STANDARD
TZOFFSETFROM:+0000
TZOFFSETTO:+0000
TZNAME:UTC
DTSTART:20240101T000000
END:STANDARD
END:VTIMEZONE
BEGIN:VEVENT
DTSTART;TZID=UTC:20251114T190000
DTEND;TZID=UTC:20251114T210000
DTSTAMP:20260421T162549
CREATED:20251114T083956Z
LAST-MODIFIED:20251114T083956Z
UID:9284-1763146800-1763154000@nor92.com
SUMMARY:Sarpsborg - NOR 92 | Skjerberghallen
DESCRIPTION:Eliteserien\, menn
URL:https://nor92.com/event/sarpsborg-nor-92-skjerberghallen/
END:VEVENT
END:VCALENDAR