BEGIN:VCALENDAR
VERSION:2.0
PRODID:-//NOR 92 - ECPv6.15.9//NONSGML v1.0//EN
CALSCALE:GREGORIAN
METHOD:PUBLISH
X-ORIGINAL-URL:https://nor92.com
X-WR-CALDESC:Arrangement for NOR 92
REFRESH-INTERVAL;VALUE=DURATION:PT1H
X-Robots-Tag:noindex
X-PUBLISHED-TTL:PT1H
BEGIN:VTIMEZONE
TZID:UTC
BEGIN:STANDARD
TZOFFSETFROM:+0000
TZOFFSETTO:+0000
TZNAME:UTC
DTSTART:20240101T000000
END:STANDARD
END:VTIMEZONE
BEGIN:VEVENT
DTSTART;TZID=UTC:20251116T124000
DTEND;TZID=UTC:20251116T133000
DTSTAMP:20260421T162443
CREATED:20251114T085257Z
LAST-MODIFIED:20251114T085257Z
UID:9298-1763296800-1763299800@nor92.com
SUMMARY:Monolitten Panters - NOR 92 G/J9 | Skøyenhallen
DESCRIPTION:Minirunde
URL:https://nor92.com/event/monolitten-panters-nor-92-g-j9-skoyenhallen/
END:VEVENT
BEGIN:VEVENT
DTSTART;TZID=UTC:20251116T132000
DTEND;TZID=UTC:20251116T140000
DTSTAMP:20260421T162443
CREATED:20251114T085349Z
LAST-MODIFIED:20251114T085349Z
UID:9300-1763299200-1763301600@nor92.com
SUMMARY:NOR 92 G/J9 - Tunet 2 | Skøyenhallen
DESCRIPTION:Minirunde
URL:https://nor92.com/event/nor-92-g-j9-tunet-2-skoyenhallen/
END:VEVENT
BEGIN:VEVENT
DTSTART;TZID=UTC:20251116T140000
DTEND;TZID=UTC:20251116T143000
DTSTAMP:20260421T162443
CREATED:20251114T085430Z
LAST-MODIFIED:20251114T085538Z
UID:9302-1763301600-1763303400@nor92.com
SUMMARY:Sagene - NOR 92 G/J9 | Skøyenhallen
DESCRIPTION:Minirunde
URL:https://nor92.com/event/sagene-nor-92-g-j9-skoyenhallen/
END:VEVENT
END:VCALENDAR