BEGIN:VCALENDAR
VERSION:2.0
PRODID:-//NOR 92 - ECPv6.15.9//NONSGML v1.0//EN
CALSCALE:GREGORIAN
METHOD:PUBLISH
X-WR-CALNAME:NOR 92
X-ORIGINAL-URL:https://nor92.com
X-WR-CALDESC:Arrangement for NOR 92
REFRESH-INTERVAL;VALUE=DURATION:PT1H
X-Robots-Tag:noindex
X-PUBLISHED-TTL:PT1H
BEGIN:VTIMEZONE
TZID:UTC
BEGIN:STANDARD
TZOFFSETFROM:+0000
TZOFFSETTO:+0000
TZNAME:UTC
DTSTART:20240101T000000
END:STANDARD
END:VTIMEZONE
BEGIN:VEVENT
DTSTART;TZID=UTC:20251122T094500
DTEND;TZID=UTC:20251122T104500
DTSTAMP:20260421T161911
CREATED:20251121T134521Z
LAST-MODIFIED:20251121T134521Z
UID:9354-1763804700-1763808300@nor92.com
SUMMARY:Gjelleråsen - NOR 92 G11 | Eika Fet Arena
DESCRIPTION:Gutter 11\, nivå 2\, avd. B
URL:https://nor92.com/event/gjellerasen-nor-92-g11-eika-fet-arena/
END:VEVENT
BEGIN:VEVENT
DTSTART;TZID=UTC:20251122T120000
DTEND;TZID=UTC:20251122T130000
DTSTAMP:20260421T161911
CREATED:20251121T134619Z
LAST-MODIFIED:20251121T134619Z
UID:9356-1763812800-1763816400@nor92.com
SUMMARY:NOR 92 G11 - Sagene | Eika Fet Arena
DESCRIPTION:Gutter 11\, nivå 2\, avd. B
URL:https://nor92.com/event/nor-92-g11-sagene-eika-fet-arena/
END:VEVENT
END:VCALENDAR