BEGIN:VCALENDAR
VERSION:2.0
PRODID:-//NOR 92 - ECPv6.15.9//NONSGML v1.0//EN
CALSCALE:GREGORIAN
METHOD:PUBLISH
X-WR-CALNAME:NOR 92
X-ORIGINAL-URL:https://nor92.com
X-WR-CALDESC:Arrangement for NOR 92
REFRESH-INTERVAL;VALUE=DURATION:PT1H
X-Robots-Tag:noindex
X-PUBLISHED-TTL:PT1H
BEGIN:VTIMEZONE
TZID:UTC
BEGIN:STANDARD
TZOFFSETFROM:+0000
TZOFFSETTO:+0000
TZNAME:UTC
DTSTART:20240101T000000
END:STANDARD
END:VTIMEZONE
BEGIN:VEVENT
DTSTART;TZID=UTC:20251128T183000
DTEND;TZID=UTC:20251128T193000
DTSTAMP:20260421T161940
CREATED:20251128T071009Z
LAST-MODIFIED:20251128T071009Z
UID:9411-1764354600-1764358200@nor92.com
SUMMARY:Ski - NOR 92 G13 | Ski Alliansehall
DESCRIPTION:Gutter 13\, nivå 2
URL:https://nor92.com/event/ski-nor-92-g13-ski-alliansehall/
END:VEVENT
BEGIN:VEVENT
DTSTART;TZID=UTC:20251128T201500
DTEND;TZID=UTC:20251128T214500
DTSTAMP:20260421T161940
CREATED:20251128T070844Z
LAST-MODIFIED:20251128T070902Z
UID:9408-1764360900-1764366300@nor92.com
SUMMARY:NOR 92-2 - Vålerenga | Mjøndalshallen
DESCRIPTION:2. divisjon avd. B\, menn
URL:https://nor92.com/event/ellingsrud-valerenga-mjondalshallen/
END:VEVENT
END:VCALENDAR