BEGIN:VCALENDAR
VERSION:2.0
PRODID:-//NOR 92 - ECPv6.15.9//NONSGML v1.0//EN
CALSCALE:GREGORIAN
METHOD:PUBLISH
X-ORIGINAL-URL:https://nor92.com
X-WR-CALDESC:Arrangement for NOR 92
REFRESH-INTERVAL;VALUE=DURATION:PT1H
X-Robots-Tag:noindex
X-PUBLISHED-TTL:PT1H
BEGIN:VTIMEZONE
TZID:UTC
BEGIN:STANDARD
TZOFFSETFROM:+0000
TZOFFSETTO:+0000
TZNAME:UTC
DTSTART:20240101T000000
END:STANDARD
END:VTIMEZONE
BEGIN:VEVENT
DTSTART;TZID=UTC:20251203T190000
DTEND;TZID=UTC:20251203T210000
DTSTAMP:20260421T150158
CREATED:20251114T084344Z
LAST-MODIFIED:20251114T084344Z
UID:9288-1764788400-1764795600@nor92.com
SUMMARY:Tunet - NOR 92 | Høyenhallen
DESCRIPTION:Eliteserien\, menn
URL:https://nor92.com/event/tunet-nor-92-hoyenhallen-2/
END:VEVENT
END:VCALENDAR