BEGIN:VCALENDAR
VERSION:2.0
PRODID:-//NOR 92 - ECPv6.15.9//NONSGML v1.0//EN
CALSCALE:GREGORIAN
METHOD:PUBLISH
X-WR-CALNAME:NOR 92
X-ORIGINAL-URL:https://nor92.com
X-WR-CALDESC:Arrangement for NOR 92
REFRESH-INTERVAL;VALUE=DURATION:PT1H
X-Robots-Tag:noindex
X-PUBLISHED-TTL:PT1H
BEGIN:VTIMEZONE
TZID:UTC
BEGIN:STANDARD
TZOFFSETFROM:+0000
TZOFFSETTO:+0000
TZNAME:UTC
DTSTART:20240101T000000
END:STANDARD
END:VTIMEZONE
BEGIN:VEVENT
DTSTART;TZID=UTC:20251207T103000
DTEND;TZID=UTC:20251207T113000
DTSTAMP:20260421T145544
CREATED:20251204T135823Z
LAST-MODIFIED:20251204T135823Z
UID:9571-1765103400-1765107000@nor92.com
SUMMARY:Østensjø - NOR 92 G13 | Bøler Idrettshall
DESCRIPTION:Gutter 13\, nivå 2
URL:https://nor92.com/event/ostensjo-nor-92-g13-boler-idrettshall/
END:VEVENT
END:VCALENDAR