BEGIN:VCALENDAR
VERSION:2.0
PRODID:-//NOR 92 - ECPv6.15.9//NONSGML v1.0//EN
CALSCALE:GREGORIAN
METHOD:PUBLISH
X-WR-CALNAME:NOR 92
X-ORIGINAL-URL:https://nor92.com
X-WR-CALDESC:Arrangement for NOR 92
REFRESH-INTERVAL;VALUE=DURATION:PT1H
X-Robots-Tag:noindex
X-PUBLISHED-TTL:PT1H
BEGIN:VTIMEZONE
TZID:UTC
BEGIN:STANDARD
TZOFFSETFROM:+0000
TZOFFSETTO:+0000
TZNAME:UTC
DTSTART:20250101T000000
END:STANDARD
END:VTIMEZONE
BEGIN:VEVENT
DTSTART;TZID=UTC:20260110T100000
DTEND;TZID=UTC:20260110T103000
DTSTAMP:20260421T133946
CREATED:20260107T072606Z
LAST-MODIFIED:20260107T072606Z
UID:9673-1768039200-1768041000@nor92.com
SUMMARY:Lambertseter - NOR 92 G/J7 | Vahl Flerbrukshall
DESCRIPTION:Minirunde
URL:https://nor92.com/event/lambertseter-nor-92-g-j7-vahl-flerbrukshall/
END:VEVENT
BEGIN:VEVENT
DTSTART;TZID=UTC:20260110T104000
DTEND;TZID=UTC:20260110T111000
DTSTAMP:20260421T133946
CREATED:20260107T072714Z
LAST-MODIFIED:20260107T072714Z
UID:9675-1768041600-1768043400@nor92.com
SUMMARY:NOR 92 G/J7 - Ski Innebandy | Vahl Flerbrukshall
DESCRIPTION:Minirunde
URL:https://nor92.com/event/nor-92-g-j7-ski-innebandy-vahl-flerbrukshall/
END:VEVENT
BEGIN:VEVENT
DTSTART;TZID=UTC:20260110T112000
DTEND;TZID=UTC:20260110T115000
DTSTAMP:20260421T133946
CREATED:20260107T072807Z
LAST-MODIFIED:20260107T072807Z
UID:9677-1768044000-1768045800@nor92.com
SUMMARY:Tunet - NOR 92 G/J7 | Vahl Flerbrukshall
DESCRIPTION:Minirunde
URL:https://nor92.com/event/tunet-nor-92-g-j7-vahl-flerbrukshall/
END:VEVENT
BEGIN:VEVENT
DTSTART;TZID=UTC:20260110T120000
DTEND;TZID=UTC:20260110T123000
DTSTAMP:20260421T133946
CREATED:20260107T072921Z
LAST-MODIFIED:20260107T072921Z
UID:9679-1768046400-1768048200@nor92.com
SUMMARY:NOR 92 G/J7 - Vika/Filipstad SK | Vahl Flerbrukshall
DESCRIPTION:Minirunde
URL:https://nor92.com/event/nor-92-g-j7-vika-filipstad-sk-vahl-flerbrukshall/
END:VEVENT
BEGIN:VEVENT
DTSTART;TZID=UTC:20260110T133000
DTEND;TZID=UTC:20260110T150000
DTSTAMP:20260421T133946
CREATED:20260107T073132Z
LAST-MODIFIED:20260107T073132Z
UID:9681-1768051800-1768057200@nor92.com
SUMMARY:Holmlia 2- NOR 92-2 | Holmliahallen
DESCRIPTION:2. divisjon avd. B\, menn
URL:https://nor92.com/event/holmlia-2-nor-92-2-holmliahallen/
END:VEVENT
END:VCALENDAR