BEGIN:VCALENDAR
VERSION:2.0
PRODID:-//NOR 92 - ECPv6.15.9//NONSGML v1.0//EN
CALSCALE:GREGORIAN
METHOD:PUBLISH
X-ORIGINAL-URL:https://nor92.com
X-WR-CALDESC:Arrangement for NOR 92
REFRESH-INTERVAL;VALUE=DURATION:PT1H
X-Robots-Tag:noindex
X-PUBLISHED-TTL:PT1H
BEGIN:VTIMEZONE
TZID:UTC
BEGIN:STANDARD
TZOFFSETFROM:+0000
TZOFFSETTO:+0000
TZNAME:UTC
DTSTART:20250101T000000
END:STANDARD
END:VTIMEZONE
BEGIN:VEVENT
DTSTART;TZID=UTC:20260118T123000
DTEND;TZID=UTC:20260118T140000
DTSTAMP:20260421T134413
CREATED:20260112T110213Z
LAST-MODIFIED:20260112T110213Z
UID:9787-1768739400-1768744800@nor92.com
SUMMARY:Frogner 2 - NOR 92 G15 | Frogner Idrettspark
DESCRIPTION:Gutter 15\, avd. A
URL:https://nor92.com/event/frogner-2-nor-92-g15-frogner-idrettspark/
END:VEVENT
END:VCALENDAR