BEGIN:VCALENDAR
VERSION:2.0
PRODID:-//NOR 92 - ECPv6.15.9//NONSGML v1.0//EN
CALSCALE:GREGORIAN
METHOD:PUBLISH
X-ORIGINAL-URL:https://nor92.com
X-WR-CALDESC:Arrangement for NOR 92
REFRESH-INTERVAL;VALUE=DURATION:PT1H
X-Robots-Tag:noindex
X-PUBLISHED-TTL:PT1H
BEGIN:VTIMEZONE
TZID:UTC
BEGIN:STANDARD
TZOFFSETFROM:+0000
TZOFFSETTO:+0000
TZNAME:UTC
DTSTART:20250101T000000
END:STANDARD
END:VTIMEZONE
BEGIN:VEVENT
DTSTART;TZID=UTC:20260131T150000
DTEND;TZID=UTC:20260131T163000
DTSTAMP:20260421T121845
CREATED:20260120T102503Z
LAST-MODIFIED:20260120T115923Z
UID:9843-1769871600-1769877000@nor92.com
SUMMARY:Greåker - NOR 92 | Tindlundhallen
DESCRIPTION:Eliteserien\, menn
URL:https://nor92.com/event/greaker-nor-92-tindlundhallen-2/
END:VEVENT
END:VCALENDAR