BEGIN:VCALENDAR
VERSION:2.0
PRODID:-//NOR 92 - ECPv6.15.9//NONSGML v1.0//EN
CALSCALE:GREGORIAN
METHOD:PUBLISH
X-ORIGINAL-URL:https://nor92.com
X-WR-CALDESC:Arrangement for NOR 92
REFRESH-INTERVAL;VALUE=DURATION:PT1H
X-Robots-Tag:noindex
X-PUBLISHED-TTL:PT1H
BEGIN:VTIMEZONE
TZID:UTC
BEGIN:STANDARD
TZOFFSETFROM:+0000
TZOFFSETTO:+0000
TZNAME:UTC
DTSTART:20250101T000000
END:STANDARD
END:VTIMEZONE
BEGIN:VEVENT
DTSTART;TZID=UTC:20260201T153000
DTEND;TZID=UTC:20260201T163000
DTSTAMP:20260421T121905
CREATED:20260123T131945Z
LAST-MODIFIED:20260123T131945Z
UID:9845-1769959800-1769963400@nor92.com
SUMMARY:NOR 92 G13 - Østensjø | Mjøndalshallen
DESCRIPTION:Gutter 13\, nivå 2
URL:https://nor92.com/event/nor-92-g13-ostensjo-mjondalshallen/
END:VEVENT
BEGIN:VEVENT
DTSTART;TZID=UTC:20260201T170000
DTEND;TZID=UTC:20260201T183000
DTSTAMP:20260421T121905
CREATED:20260123T132041Z
LAST-MODIFIED:20260123T132041Z
UID:9847-1769965200-1769970600@nor92.com
SUMMARY:NOR 92 G15 - Holmlia/Soon | Mjøndalshallen
DESCRIPTION:Gutter 15\, avd. A
URL:https://nor92.com/event/nor-92-g15-holmlia-soon-mjondalshallen/
END:VEVENT
BEGIN:VEVENT
DTSTART;TZID=UTC:20260201T183000
DTEND;TZID=UTC:20260201T200000
DTSTAMP:20260421T121905
CREATED:20260123T132145Z
LAST-MODIFIED:20260123T132145Z
UID:9849-1769970600-1769976000@nor92.com
SUMMARY:NOR 92-2 - Ellingsrud | Mjøndalshallen
DESCRIPTION:2. divisjon avd. B\, menn
URL:https://nor92.com/event/nor-92-2-ellingsrud-mjondalshallen/
END:VEVENT
END:VCALENDAR