BEGIN:VCALENDAR
VERSION:2.0
PRODID:-//NOR 92 - ECPv6.15.9//NONSGML v1.0//EN
CALSCALE:GREGORIAN
METHOD:PUBLISH
X-ORIGINAL-URL:https://nor92.com
X-WR-CALDESC:Arrangement for NOR 92
REFRESH-INTERVAL;VALUE=DURATION:PT1H
X-Robots-Tag:noindex
X-PUBLISHED-TTL:PT1H
BEGIN:VTIMEZONE
TZID:UTC
BEGIN:STANDARD
TZOFFSETFROM:+0000
TZOFFSETTO:+0000
TZNAME:UTC
DTSTART:20250101T000000
END:STANDARD
END:VTIMEZONE
BEGIN:VEVENT
DTSTART;TZID=UTC:20260314T120000
DTEND;TZID=UTC:20260314T123000
DTSTAMP:20260421T104917
CREATED:20260304T094943Z
LAST-MODIFIED:20260304T094943Z
UID:10168-1773489600-1773491400@nor92.com
SUMMARY:Holmlia Hvit - NOR 92 G/J9 | Ski Alliansehall
DESCRIPTION:Minirunde
URL:https://nor92.com/event/holmlia-hvit-nor-92-g-j9-ski-alliansehall/
END:VEVENT
BEGIN:VEVENT
DTSTART;TZID=UTC:20260314T124000
DTEND;TZID=UTC:20260314T131000
DTSTAMP:20260421T104917
CREATED:20260304T095032Z
LAST-MODIFIED:20260304T095032Z
UID:10171-1773492000-1773493800@nor92.com
SUMMARY:NOR 92 G/J9 - Bækkelaget 2 | Ski Alliansehall
DESCRIPTION:Minirunde
URL:https://nor92.com/event/nor-92-g-j9-baekkelaget-2-ski-alliansehall/
END:VEVENT
BEGIN:VEVENT
DTSTART;TZID=UTC:20260314T132000
DTEND;TZID=UTC:20260314T135000
DTSTAMP:20260421T104917
CREATED:20260304T095116Z
LAST-MODIFIED:20260304T095116Z
UID:10173-1773494400-1773496200@nor92.com
SUMMARY:Østensjø - NOR 92 G/J9 | Ski Alliansehall
DESCRIPTION:Minirunde
URL:https://nor92.com/event/ostensjo-nor-92-g-j9-ski-alliansehall/
END:VEVENT
BEGIN:VEVENT
DTSTART;TZID=UTC:20260314T180000
DTEND;TZID=UTC:20260314T200000
DTSTAMP:20260421T104917
CREATED:20260304T094325Z
LAST-MODIFIED:20260304T094325Z
UID:10157-1773511200-1773518400@nor92.com
SUMMARY:Sandnes - NOR 92 | Kleivanehallen
DESCRIPTION:NM Kvartfinale 3
URL:https://nor92.com/event/sandnes-nor-92-kleivanehallen-3/
END:VEVENT
END:VCALENDAR