BEGIN:VCALENDAR
VERSION:2.0
PRODID:-//NOR 92 - ECPv6.15.9//NONSGML v1.0//EN
CALSCALE:GREGORIAN
METHOD:PUBLISH
X-ORIGINAL-URL:https://nor92.com
X-WR-CALDESC:Arrangement for NOR 92
REFRESH-INTERVAL;VALUE=DURATION:PT1H
X-Robots-Tag:noindex
X-PUBLISHED-TTL:PT1H
BEGIN:VTIMEZONE
TZID:UTC
BEGIN:STANDARD
TZOFFSETFROM:+0000
TZOFFSETTO:+0000
TZNAME:UTC
DTSTART:20250101T000000
END:STANDARD
END:VTIMEZONE
BEGIN:VEVENT
DTSTART;TZID=UTC:20260315T140000
DTEND;TZID=UTC:20260315T160000
DTSTAMP:20260421T104836
CREATED:20260304T094358Z
LAST-MODIFIED:20260304T094404Z
UID:10159-1773583200-1773590400@nor92.com
SUMMARY:Sandnes - NOR 92 | Kleivanehallen
DESCRIPTION:NM Kvartfinale 4
URL:https://nor92.com/event/sandnes-nor-92-kleivanehallen-4/
END:VEVENT
END:VCALENDAR