BEGIN:VCALENDAR
VERSION:2.0
PRODID:-//NOR 92 - ECPv6.15.9//NONSGML v1.0//EN
CALSCALE:GREGORIAN
METHOD:PUBLISH
X-WR-CALNAME:NOR 92
X-ORIGINAL-URL:https://nor92.com
X-WR-CALDESC:Arrangement for NOR 92
REFRESH-INTERVAL;VALUE=DURATION:PT1H
X-Robots-Tag:noindex
X-PUBLISHED-TTL:PT1H
BEGIN:VTIMEZONE
TZID:UTC
BEGIN:STANDARD
TZOFFSETFROM:+0000
TZOFFSETTO:+0000
TZNAME:UTC
DTSTART:20250101T000000
END:STANDARD
END:VTIMEZONE
BEGIN:VEVENT
DTSTART;TZID=UTC:20260321T124500
DTEND;TZID=UTC:20260321T134500
DTSTAMP:20260421T104156
CREATED:20260304T095413Z
LAST-MODIFIED:20260304T095413Z
UID:10179-1774097100-1774100700@nor92.com
SUMMARY:Fjerdingby - NOR 92 G11 | Bøler Idrettshall
DESCRIPTION:Gutter 11\, nivå 2 – avd. B
URL:https://nor92.com/event/fjerdingby-nor-92-g11-boler-idrettshall/
END:VEVENT
BEGIN:VEVENT
DTSTART;TZID=UTC:20260321T150000
DTEND;TZID=UTC:20260321T160000
DTSTAMP:20260421T104156
CREATED:20260304T095443Z
LAST-MODIFIED:20260304T095443Z
UID:10181-1774105200-1774108800@nor92.com
SUMMARY:Bækkelaget - NOR 92 G11 | Bøler Idrettshall
DESCRIPTION:Gutter 11\, nivå 2 – avd. B
URL:https://nor92.com/event/baekkelaget-nor-92-g11-boler-idrettshall/
END:VEVENT
END:VCALENDAR