BEGIN:VCALENDAR
VERSION:2.0
PRODID:-//NOR 92 - ECPv6.15.9//NONSGML v1.0//EN
CALSCALE:GREGORIAN
METHOD:PUBLISH
X-ORIGINAL-URL:https://nor92.com
X-WR-CALDESC:Arrangement for NOR 92
REFRESH-INTERVAL;VALUE=DURATION:PT1H
X-Robots-Tag:noindex
X-PUBLISHED-TTL:PT1H
BEGIN:VTIMEZONE
TZID:UTC
BEGIN:STANDARD
TZOFFSETFROM:+0000
TZOFFSETTO:+0000
TZNAME:UTC
DTSTART:20230101T000000
END:STANDARD
END:VTIMEZONE
BEGIN:VEVENT
DTSTART;TZID=UTC:20240904T190000
DTEND;TZID=UTC:20240904T210000
DTSTAMP:20260422T092246
CREATED:20240831T070323Z
LAST-MODIFIED:20240831T070323Z
UID:5514-1725476400-1725483600@nor92.com
SUMMARY:NOR 92 - Akerselva | Mjøndalshallen
DESCRIPTION:Treningskamp\, gratis inngang!
URL:https://nor92.com/event/nor-92-akerselva-mjondalshallen/
END:VEVENT
BEGIN:VEVENT
DTSTART;TZID=UTC:20240913T190000
DTEND;TZID=UTC:20240913T210000
DTSTAMP:20260422T092246
CREATED:20240831T070711Z
LAST-MODIFIED:20240831T070711Z
UID:5518-1726254000-1726261200@nor92.com
SUMMARY:Sarpsborg - NOR 92 | Skjeberghallen
DESCRIPTION:Eliteserien\, menn
URL:https://nor92.com/event/sarpsborg-nor-92-skjeberghallen/
END:VEVENT
BEGIN:VEVENT
DTSTART;TZID=UTC:20240918T190000
DTEND;TZID=UTC:20240918T210000
DTSTAMP:20260422T092246
CREATED:20240831T071619Z
LAST-MODIFIED:20240831T071619Z
UID:5520-1726686000-1726693200@nor92.com
SUMMARY:NOR 92 - Tunet | Mjøndalshallen
DESCRIPTION:Eliteserien\, menn
URL:https://nor92.com/event/nor-92-tunet-mjondalshallen/
END:VEVENT
BEGIN:VEVENT
DTSTART;TZID=UTC:20240921T160000
DTEND;TZID=UTC:20240921T180000
DTSTAMP:20260422T092246
CREATED:20240831T072234Z
LAST-MODIFIED:20240831T072234Z
UID:5526-1726934400-1726941600@nor92.com
SUMMARY:Slevik- NOR 92 | Gressvikhallen
DESCRIPTION:Eliteserien\, menn
URL:https://nor92.com/event/slevik-nor-92-gressvikhallen/
END:VEVENT
BEGIN:VEVENT
DTSTART;TZID=UTC:20240926T194500
DTEND;TZID=UTC:20240926T211500
DTSTAMP:20260422T092246
CREATED:20240925T062122Z
LAST-MODIFIED:20240925T062154Z
UID:6091-1727379900-1727385300@nor92.com
SUMMARY:Drammen - NOR 92 2-lag | Berskaughallen
DESCRIPTION:Treningskamp\, menn
URL:https://nor92.com/event/drammen-nor-92-2-berskaughallen/
END:VEVENT
BEGIN:VEVENT
DTSTART;TZID=UTC:20240929T170000
DTEND;TZID=UTC:20240929T190000
DTSTAMP:20260422T092246
CREATED:20240831T072343Z
LAST-MODIFIED:20240831T072343Z
UID:5528-1727629200-1727636400@nor92.com
SUMMARY:NOR 92 - Sveiva | Mjøndalshallen
DESCRIPTION:Eliteserien\, menn
URL:https://nor92.com/event/nor-92-sveiva-mjondalshallen/
END:VEVENT
END:VCALENDAR