BEGIN:VCALENDAR
VERSION:2.0
PRODID:-//NOR 92 - ECPv6.15.9//NONSGML v1.0//EN
CALSCALE:GREGORIAN
METHOD:PUBLISH
X-ORIGINAL-URL:https://nor92.com
X-WR-CALDESC:Arrangement for NOR 92
REFRESH-INTERVAL;VALUE=DURATION:PT1H
X-Robots-Tag:noindex
X-PUBLISHED-TTL:PT1H
BEGIN:VTIMEZONE
TZID:UTC
BEGIN:STANDARD
TZOFFSETFROM:+0000
TZOFFSETTO:+0000
TZNAME:UTC
DTSTART:20230101T000000
END:STANDARD
END:VTIMEZONE
BEGIN:VEVENT
DTSTART;TZID=UTC:20241206T200000
DTEND;TZID=UTC:20241206T213000
DTSTAMP:20260422T051946
CREATED:20241203T103206Z
LAST-MODIFIED:20241203T103206Z
UID:6704-1733515200-1733520600@nor92.com
SUMMARY:NOR 92-2 - Fagerstrand | Mjøndalshallen
DESCRIPTION:2. divisjon\, menn
URL:https://nor92.com/event/nor-92-fagerstrand-mjondalshallen/
END:VEVENT
BEGIN:VEVENT
DTSTART;TZID=UTC:20241207T092000
DTEND;TZID=UTC:20241207T110000
DTSTAMP:20260422T051946
CREATED:20241203T143233Z
LAST-MODIFIED:20241203T143233Z
UID:6709-1733563200-1733569200@nor92.com
SUMMARY:Minirunde | Apalløkkahallen
DESCRIPTION:Gutter/Jenter 6-7 år\nkl. 09.20 Østensjø – NOR 92 2017/2018\nkl. 10.00 NOR 92 G2017/2018 – SK Sterling\nkl. 10.40 Lambertseter Lions – NOR 92 G2017/2018
URL:https://nor92.com/event/minirunde-apallokkahallen-2/
END:VEVENT
BEGIN:VEVENT
DTSTART;TZID=UTC:20241207T104500
DTEND;TZID=UTC:20241207T121500
DTSTAMP:20260422T051946
CREATED:20241203T143428Z
LAST-MODIFIED:20241203T143428Z
UID:6711-1733568300-1733573700@nor92.com
SUMMARY:Ellingsrud - NOR 92 G14 | Ellingsrudhallen A
DESCRIPTION:G14\, 2. divisjon
URL:https://nor92.com/event/ellingsrud-nor-92-g14-ellingsrudhallen-a/
END:VEVENT
BEGIN:VEVENT
DTSTART;TZID=UTC:20241207T142000
DTEND;TZID=UTC:20241207T160000
DTSTAMP:20260422T051946
CREATED:20241203T143009Z
LAST-MODIFIED:20241203T143009Z
UID:6707-1733581200-1733587200@nor92.com
SUMMARY:Minirunde | Apalløkkahallen
DESCRIPTION:Gutter Micro 8-9 år\nkl. 14.20 NOR 92 2015/2016 – Ski IL 2015\nkl. 15.40 Sterling – NOR 92 G2015/2016\nkl. 15.40 NOR 92 G2015/2016 – Hauketo IF
URL:https://nor92.com/event/minirunde-apallokkahallen/
END:VEVENT
BEGIN:VEVENT
DTSTART;TZID=UTC:20241208T140000
DTEND;TZID=UTC:20241208T153000
DTSTAMP:20260422T051946
CREATED:20241203T143555Z
LAST-MODIFIED:20241203T143555Z
UID:6713-1733666400-1733671800@nor92.com
SUMMARY:NOR 92 G12 - BSK/GIF | Mjøndalshallen
DESCRIPTION:G12
URL:https://nor92.com/event/nor-92-g12-bsk-gif-mjondalshallen/
END:VEVENT
BEGIN:VEVENT
DTSTART;TZID=UTC:20241208T153000
DTEND;TZID=UTC:20241208T170000
DTSTAMP:20260422T051946
CREATED:20241203T143657Z
LAST-MODIFIED:20241203T143657Z
UID:6715-1733671800-1733677200@nor92.com
SUMMARY:NOR 92 G14 - Sagene | Mjøndalshallen
DESCRIPTION:G14\, 2. divisjon
URL:https://nor92.com/event/nor-92-g14-sagene-mjondalshallen/
END:VEVENT
BEGIN:VEVENT
DTSTART;TZID=UTC:20241208T170000
DTEND;TZID=UTC:20241208T183000
DTSTAMP:20260422T051946
CREATED:20241203T143807Z
LAST-MODIFIED:20241203T143807Z
UID:6717-1733677200-1733682600@nor92.com
SUMMARY:NOR 92 U23 - Tunet | Mjøndalshallen
DESCRIPTION:U23\, Elite
URL:https://nor92.com/event/nor-92-u23-tunet-mjondalshallen/
END:VEVENT
BEGIN:VEVENT
DTSTART;TZID=UTC:20241219T190000
DTEND;TZID=UTC:20241219T210000
DTSTAMP:20260422T051946
CREATED:20240923T070935Z
LAST-MODIFIED:20240923T070959Z
UID:6039-1734634800-1734642000@nor92.com
SUMMARY:Tunet - NOR 92 | Høyenhallen
DESCRIPTION:Eliteserien\, menn
URL:https://nor92.com/event/tunet-nor-92-hoyenhallen/
END:VEVENT
END:VCALENDAR