BEGIN:VCALENDAR
VERSION:2.0
PRODID:-//NOR 92 - ECPv6.15.9//NONSGML v1.0//EN
CALSCALE:GREGORIAN
METHOD:PUBLISH
X-ORIGINAL-URL:https://nor92.com
X-WR-CALDESC:Arrangement for NOR 92
REFRESH-INTERVAL;VALUE=DURATION:PT1H
X-Robots-Tag:noindex
X-PUBLISHED-TTL:PT1H
BEGIN:VTIMEZONE
TZID:UTC
BEGIN:STANDARD
TZOFFSETFROM:+0000
TZOFFSETTO:+0000
TZNAME:UTC
DTSTART:20240101T000000
END:STANDARD
END:VTIMEZONE
BEGIN:VEVENT
DTSTART;TZID=UTC:20250108T190000
DTEND;TZID=UTC:20250108T210000
DTSTAMP:20260422T035637
CREATED:20250103T160929Z
LAST-MODIFIED:20250103T160929Z
UID:6871-1736362800-1736370000@nor92.com
SUMMARY:NOR 92 - Slevik | Mjøndalshallen
DESCRIPTION:Eliteserien\, menn
URL:https://nor92.com/event/nor-92-slevik-mjondalshallen/
END:VEVENT
BEGIN:VEVENT
DTSTART;TZID=UTC:20250110T200000
DTEND;TZID=UTC:20250110T213000
DTSTAMP:20260422T035637
CREATED:20250103T161150Z
LAST-MODIFIED:20250103T161407Z
UID:6873-1736539200-1736544600@nor92.com
SUMMARY:NOR 92 2-lag - Nittedal | Mjøndalshallen
DESCRIPTION:2. divisjon\, menn
URL:https://nor92.com/event/nor-92-2-lag-nittedal-mjondalshallen/
END:VEVENT
BEGIN:VEVENT
DTSTART;TZID=UTC:20250111T090000
DTEND;TZID=UTC:20250111T113000
DTSTAMP:20260422T035637
CREATED:20250109T175938Z
LAST-MODIFIED:20250110T135757Z
UID:6956-1736586000-1736595000@nor92.com
SUMMARY:Minirunde | Vahl Flerbrukshall
DESCRIPTION:kl. 09.00 Mortensrud-Aker SK – NOR 92 2017/2018\nkl. 09.40 NOR 92 2017/2018 – Monolitten 2017 Skøyen Rød\nkl. 10.20 SK Sterling – NOR 92 2017/2018\nkl. 11.00 NOR 92 2017/2018 – Hasle-Løren IL\nkl. 14.20 NOR 92 2015/2016 – Hasle Løren IL\nkl. 15.00 Østensjø G9 – NOR 92 2015/2016\nkl. 15.40 NOR 92 2015/2016 – Monolitten Blå
URL:https://nor92.com/event/minirunde-vahl_flerbrukshall/
END:VEVENT
BEGIN:VEVENT
DTSTART;TZID=UTC:20250111T120000
DTEND;TZID=UTC:20250111T140000
DTSTAMP:20260422T035637
CREATED:20250103T161310Z
LAST-MODIFIED:20250103T161310Z
UID:6875-1736596800-1736604000@nor92.com
SUMMARY:Sveiva - NOR 92 | Rommenhallen
DESCRIPTION:Eliteserien\, menn
URL:https://nor92.com/event/sveiva-nor-92-rommenhallen/
END:VEVENT
BEGIN:VEVENT
DTSTART;TZID=UTC:20250117T124500
DTEND;TZID=UTC:20250117T134500
DTSTAMP:20260422T035637
CREATED:20260112T092814Z
LAST-MODIFIED:20260112T092814Z
UID:9785-1737117900-1737121500@nor92.com
SUMMARY:Fet - NOR 92 G13 | Eik Fet Arena A
DESCRIPTION:Gutter 13\, nivå 2
URL:https://nor92.com/event/fet-nor-92-g13-eik-fet-arena-a/
END:VEVENT
BEGIN:VEVENT
DTSTART;TZID=UTC:20250118T091500
DTEND;TZID=UTC:20250118T103000
DTSTAMP:20260422T035637
CREATED:20250114T130527Z
LAST-MODIFIED:20250114T130819Z
UID:7014-1737191700-1737196200@nor92.com
SUMMARY:Holmlia/DFI/Son - NOR 92 G14 | Holmliahallen
DESCRIPTION:G14\, 2. divisjon
URL:https://nor92.com/event/holmlia-dfi-son-nor-92-g14-holmliahallen/
END:VEVENT
BEGIN:VEVENT
DTSTART;TZID=UTC:20250118T160000
DTEND;TZID=UTC:20250118T180000
DTSTAMP:20260422T035637
CREATED:20250109T171723Z
LAST-MODIFIED:20250109T171723Z
UID:6952-1737216000-1737223200@nor92.com
SUMMARY:NOR 92 - Harstad | Mjøndalshallen
DESCRIPTION:Eliteserien\, menn
URL:https://nor92.com/event/nor-92-harstad-mjondalshallen/
END:VEVENT
BEGIN:VEVENT
DTSTART;TZID=UTC:20250119T120000
DTEND;TZID=UTC:20250119T131500
DTSTAMP:20260422T035637
CREATED:20250114T130714Z
LAST-MODIFIED:20250114T130847Z
UID:7016-1737288000-1737292500@nor92.com
SUMMARY:Råholt - NOR 92 G12 | Råholt Flerbrukshall
DESCRIPTION:G12
URL:https://nor92.com/event/raholt-nor-92-g12-raholt-flerbrukshall/
END:VEVENT
BEGIN:VEVENT
DTSTART;TZID=UTC:20250119T130000
DTEND;TZID=UTC:20250119T150000
DTSTAMP:20260422T035637
CREATED:20250109T171810Z
LAST-MODIFIED:20250109T171810Z
UID:6954-1737291600-1737298800@nor92.com
SUMMARY:NOR 92 - Sandnes | Mjøndalshallen
DESCRIPTION:Eliteserien\, menn
URL:https://nor92.com/event/nor-92-sandnes-mjondalshallen/
END:VEVENT
BEGIN:VEVENT
DTSTART;TZID=UTC:20250125T120000
DTEND;TZID=UTC:20250125T153000
DTSTAMP:20260422T035637
CREATED:20250120T180659Z
LAST-MODIFIED:20250120T180659Z
UID:7211-1737806400-1737819000@nor92.com
SUMMARY:NOR 92 G19 - Gjelleråsen | Hedmarkshallen
DESCRIPTION:NM G19\, menn
URL:https://nor92.com/event/nor-92-g19-gjellerasen-hedmarkshallen/
END:VEVENT
BEGIN:VEVENT
DTSTART;TZID=UTC:20250125T150000
DTEND;TZID=UTC:20250125T153000
DTSTAMP:20260422T035637
CREATED:20250120T180608Z
LAST-MODIFIED:20250120T180608Z
UID:7209-1737817200-1737819000@nor92.com
SUMMARY:Sveiva - NOR 92 G19 | Hedmarkshallen
DESCRIPTION:NM G19\, menn
URL:https://nor92.com/event/sveiva-nor-92g19-hedmarkshallen/
END:VEVENT
BEGIN:VEVENT
DTSTART;TZID=UTC:20250125T180000
DTEND;TZID=UTC:20250125T193000
DTSTAMP:20260422T035637
CREATED:20250120T180748Z
LAST-MODIFIED:20250120T180748Z
UID:7213-1737828000-1737833400@nor92.com
SUMMARY:Greåker - NOR 92 G19 | Hedmarkshallen
DESCRIPTION:NM G19\, menn
URL:https://nor92.com/event/greaker-nor-92-g19-hedmarkshallen/
END:VEVENT
BEGIN:VEVENT
DTSTART;TZID=UTC:20250126T153000
DTEND;TZID=UTC:20250126T170000
DTSTAMP:20260422T035637
CREATED:20250120T180935Z
LAST-MODIFIED:20250120T180935Z
UID:7215-1737905400-1737910800@nor92.com
SUMMARY:NOR 92 G14 - Tunet 2 | Mjøndalshallen
DESCRIPTION:G14\, 2. divisjon
URL:https://nor92.com/event/nor-92-g14-tunet-mjondalshallen/
END:VEVENT
BEGIN:VEVENT
DTSTART;TZID=UTC:20250131T200000
DTEND;TZID=UTC:20250131T213000
DTSTAMP:20260422T035637
CREATED:20250120T180412Z
LAST-MODIFIED:20250120T181327Z
UID:7207-1738353600-1738359000@nor92.com
SUMMARY:NOR 92-2 - Gjelleråsen | Mjøndalshallen
DESCRIPTION:2. divisjon\, menn
URL:https://nor92.com/event/nor-92-2-gjellerasen-mjondalshallen/
END:VEVENT
END:VCALENDAR