BEGIN:VCALENDAR
VERSION:2.0
PRODID:-//NOR 92 - ECPv6.15.9//NONSGML v1.0//EN
CALSCALE:GREGORIAN
METHOD:PUBLISH
X-ORIGINAL-URL:https://nor92.com
X-WR-CALDESC:Arrangement for NOR 92
REFRESH-INTERVAL;VALUE=DURATION:PT1H
X-Robots-Tag:noindex
X-PUBLISHED-TTL:PT1H
BEGIN:VTIMEZONE
TZID:UTC
BEGIN:STANDARD
TZOFFSETFROM:+0000
TZOFFSETTO:+0000
TZNAME:UTC
DTSTART:20240101T000000
END:STANDARD
END:VTIMEZONE
BEGIN:VEVENT
DTSTART;TZID=UTC:20250821T190000
DTEND;TZID=UTC:20250821T210000
DTSTAMP:20260421T191234
CREATED:20250812T113056Z
LAST-MODIFIED:20250812T113056Z
UID:8244-1755802800-1755810000@nor92.com
SUMMARY:St. Croix - NOR 92 | Borgehallen
DESCRIPTION:Treningskamp
URL:https://nor92.com/event/st-croix-nor-92-borgehallen/
END:VEVENT
BEGIN:VEVENT
DTSTART;TZID=UTC:20250823T130000
DTEND;TZID=UTC:20250823T150000
DTSTAMP:20260421T191234
CREATED:20250812T113241Z
LAST-MODIFIED:20250812T113241Z
UID:8247-1755954000-1755961200@nor92.com
SUMMARY:NOR 92 - St. Croix | Mjøndalshallen
DESCRIPTION:Treningskamp
URL:https://nor92.com/event/nor-92-st-croix-mjondalshallen/
END:VEVENT
END:VCALENDAR