BEGIN:VCALENDAR
VERSION:2.0
PRODID:-//NOR 92 - ECPv6.15.9//NONSGML v1.0//EN
CALSCALE:GREGORIAN
METHOD:PUBLISH
X-ORIGINAL-URL:https://nor92.com
X-WR-CALDESC:Arrangement for NOR 92
REFRESH-INTERVAL;VALUE=DURATION:PT1H
X-Robots-Tag:noindex
X-PUBLISHED-TTL:PT1H
BEGIN:VTIMEZONE
TZID:UTC
BEGIN:STANDARD
TZOFFSETFROM:+0000
TZOFFSETTO:+0000
TZNAME:UTC
DTSTART:20240101T000000
END:STANDARD
END:VTIMEZONE
BEGIN:VEVENT
DTSTART;TZID=UTC:20251101T103000
DTEND;TZID=UTC:20251101T113000
DTSTAMP:20260421T150215
CREATED:20250929T143617Z
LAST-MODIFIED:20250929T144306Z
UID:8850-1761993000-1761996600@nor92.com
SUMMARY:Holmlia - NOR 92 G11 | Holmliahallen
DESCRIPTION:Gutter 11\, nivå 2\, avd. B
URL:https://nor92.com/event/holmlia-nor-92-g11-ellingsrudhallen/
END:VEVENT
BEGIN:VEVENT
DTSTART;TZID=UTC:20251101T120000
DTEND;TZID=UTC:20251101T133000
DTSTAMP:20260421T150215
CREATED:20250930T073526Z
LAST-MODIFIED:20250930T073526Z
UID:8862-1761998400-1762003800@nor92.com
SUMMARY:NOR 92 G13 - Tunet | Mjøndalshallen
DESCRIPTION:Gutter 13\, nivå 2
URL:https://nor92.com/event/nor-92-g13-tunet-mjondalshallen/
END:VEVENT
BEGIN:VEVENT
DTSTART;TZID=UTC:20251101T124500
DTEND;TZID=UTC:20251101T134500
DTSTAMP:20260421T150215
CREATED:20250929T143941Z
LAST-MODIFIED:20250929T143941Z
UID:8852-1762001100-1762004700@nor92.com
SUMMARY:NOR 92 G11 - Gjelleråsen | Holmliahallen
DESCRIPTION:Gutter 11\, nivå 2\, avd. B
URL:https://nor92.com/event/nor-92-g11-gjellerasen-holmliahallen/
END:VEVENT
BEGIN:VEVENT
DTSTART;TZID=UTC:20251101T133000
DTEND;TZID=UTC:20251101T150000
DTSTAMP:20260421T150215
CREATED:20250930T074724Z
LAST-MODIFIED:20250930T074724Z
UID:8868-1762003800-1762009200@nor92.com
SUMMARY:NOR 92 G15 - Grei/Ull-Kisa | Mjøndalshallen
DESCRIPTION:Gutter 15\, avd. A
URL:https://nor92.com/event/nor-92-g15-grei-ull-kisa-mjondalshallen/
END:VEVENT
BEGIN:VEVENT
DTSTART;TZID=UTC:20251102T170000
DTEND;TZID=UTC:20251102T190000
DTSTAMP:20260421T150215
CREATED:20250929T142540Z
LAST-MODIFIED:20250929T142540Z
UID:8834-1762102800-1762110000@nor92.com
SUMMARY:NOR 92 - Vålerenga | Mjøndalshallen
DESCRIPTION:Eliteserien\, menn
URL:https://nor92.com/event/nor-92-valerenga-mjondalshallen-2/
END:VEVENT
BEGIN:VEVENT
DTSTART;TZID=UTC:20251108T140000
DTEND;TZID=UTC:20251108T153000
DTSTAMP:20260421T150215
CREATED:20250929T143022Z
LAST-MODIFIED:20250929T143022Z
UID:8842-1762610400-1762615800@nor92.com
SUMMARY:Ellingsrud - NOR 92-2 | Ellingsrudhallen
DESCRIPTION:2. divisjon avd. B\, menn
URL:https://nor92.com/event/ellingsrud-nor-92-2-ellingsrudhallen/
END:VEVENT
BEGIN:VEVENT
DTSTART;TZID=UTC:20251109T121500
DTEND;TZID=UTC:20251109T140000
DTSTAMP:20260421T150215
CREATED:20251114T085118Z
LAST-MODIFIED:20251114T085118Z
UID:9296-1762690500-1762696800@nor92.com
SUMMARY:Frogner/Gjerdrum - NOR 92 G13 | Frogner Idrettspark
DESCRIPTION:Gutter 13\, nivå 2
URL:https://nor92.com/event/frogner-gjerdrum-nor-92-g13-frogner-idrettspark/
END:VEVENT
BEGIN:VEVENT
DTSTART;TZID=UTC:20251109T140000
DTEND;TZID=UTC:20251109T150000
DTSTAMP:20260421T150215
CREATED:20251103T180550Z
LAST-MODIFIED:20251103T180550Z
UID:9237-1762696800-1762700400@nor92.com
SUMMARY:Strømmen - NOR 92 G13 | Slorahallen 1
DESCRIPTION:Gutter 13\, nivå 2
URL:https://nor92.com/event/strommen-nor-92-g13-slorahallen-1/
END:VEVENT
BEGIN:VEVENT
DTSTART;TZID=UTC:20251109T151500
DTEND;TZID=UTC:20251109T164500
DTSTAMP:20260421T150215
CREATED:20251103T180650Z
LAST-MODIFIED:20251103T180650Z
UID:9239-1762701300-1762706700@nor92.com
SUMMARY:NOR 92 G15 - Sarpsborg 2 | Mjøndalshallen
DESCRIPTION:Gutter 15\, avd. A
URL:https://nor92.com/event/nor-92-g15-sarpsborg-2-mjondalshallen/
END:VEVENT
BEGIN:VEVENT
DTSTART;TZID=UTC:20251109T163000
DTEND;TZID=UTC:20251109T180000
DTSTAMP:20260421T150215
CREATED:20250929T143114Z
LAST-MODIFIED:20250929T143114Z
UID:8844-1762705800-1762711200@nor92.com
SUMMARY:Lyn - NOR 92-2 | Rommenhallen
DESCRIPTION:2. divisjon avd. B\, menn
URL:https://nor92.com/event/lyn-nor-92-2-rommenhallen/
END:VEVENT
BEGIN:VEVENT
DTSTART;TZID=UTC:20251114T190000
DTEND;TZID=UTC:20251114T210000
DTSTAMP:20260421T150215
CREATED:20251114T083956Z
LAST-MODIFIED:20251114T083956Z
UID:9284-1763146800-1763154000@nor92.com
SUMMARY:Sarpsborg - NOR 92 | Skjerberghallen
DESCRIPTION:Eliteserien\, menn
URL:https://nor92.com/event/sarpsborg-nor-92-skjerberghallen/
END:VEVENT
BEGIN:VEVENT
DTSTART;TZID=UTC:20251115T113000
DTEND;TZID=UTC:20251115T130000
DTSTAMP:20260421T150215
CREATED:20251114T085005Z
LAST-MODIFIED:20251114T085005Z
UID:9294-1763206200-1763211600@nor92.com
SUMMARY:Vestre Aker - NOR 92 G15 | Bøler Idrettshall
DESCRIPTION:Gutter 15\, avd. A
URL:https://nor92.com/event/vestre-aker-nor-92-g15-boler-idrettshall/
END:VEVENT
BEGIN:VEVENT
DTSTART;TZID=UTC:20251116T124000
DTEND;TZID=UTC:20251116T133000
DTSTAMP:20260421T150215
CREATED:20251114T085257Z
LAST-MODIFIED:20251114T085257Z
UID:9298-1763296800-1763299800@nor92.com
SUMMARY:Monolitten Panters - NOR 92 G/J9 | Skøyenhallen
DESCRIPTION:Minirunde
URL:https://nor92.com/event/monolitten-panters-nor-92-g-j9-skoyenhallen/
END:VEVENT
BEGIN:VEVENT
DTSTART;TZID=UTC:20251116T132000
DTEND;TZID=UTC:20251116T140000
DTSTAMP:20260421T150215
CREATED:20251114T085349Z
LAST-MODIFIED:20251114T085349Z
UID:9300-1763299200-1763301600@nor92.com
SUMMARY:NOR 92 G/J9 - Tunet 2 | Skøyenhallen
DESCRIPTION:Minirunde
URL:https://nor92.com/event/nor-92-g-j9-tunet-2-skoyenhallen/
END:VEVENT
BEGIN:VEVENT
DTSTART;TZID=UTC:20251116T140000
DTEND;TZID=UTC:20251116T143000
DTSTAMP:20260421T150215
CREATED:20251114T085430Z
LAST-MODIFIED:20251114T085538Z
UID:9302-1763301600-1763303400@nor92.com
SUMMARY:Sagene - NOR 92 G/J9 | Skøyenhallen
DESCRIPTION:Minirunde
URL:https://nor92.com/event/sagene-nor-92-g-j9-skoyenhallen/
END:VEVENT
BEGIN:VEVENT
DTSTART;TZID=UTC:20251122T094500
DTEND;TZID=UTC:20251122T104500
DTSTAMP:20260421T150215
CREATED:20251121T134521Z
LAST-MODIFIED:20251121T134521Z
UID:9354-1763804700-1763808300@nor92.com
SUMMARY:Gjelleråsen - NOR 92 G11 | Eika Fet Arena
DESCRIPTION:Gutter 11\, nivå 2\, avd. B
URL:https://nor92.com/event/gjellerasen-nor-92-g11-eika-fet-arena/
END:VEVENT
BEGIN:VEVENT
DTSTART;TZID=UTC:20251122T120000
DTEND;TZID=UTC:20251122T130000
DTSTAMP:20260421T150215
CREATED:20251121T134619Z
LAST-MODIFIED:20251121T134619Z
UID:9356-1763812800-1763816400@nor92.com
SUMMARY:NOR 92 G11 - Sagene | Eika Fet Arena
DESCRIPTION:Gutter 11\, nivå 2\, avd. B
URL:https://nor92.com/event/nor-92-g11-sagene-eika-fet-arena/
END:VEVENT
BEGIN:VEVENT
DTSTART;TZID=UTC:20251123T134500
DTEND;TZID=UTC:20251123T150000
DTSTAMP:20260421T150215
CREATED:20251121T134942Z
LAST-MODIFIED:20251121T134942Z
UID:9358-1763905500-1763910000@nor92.com
SUMMARY:NOR 92 G13 - Monolitten | Mjøndalshallen
DESCRIPTION:Gutter 13\, nivå 2
URL:https://nor92.com/event/nor-92-g13-monolitten-mjondalshallen/
END:VEVENT
BEGIN:VEVENT
DTSTART;TZID=UTC:20251123T170000
DTEND;TZID=UTC:20251123T190000
DTSTAMP:20260421T150215
CREATED:20251114T084232Z
LAST-MODIFIED:20251114T084232Z
UID:9286-1763917200-1763924400@nor92.com
SUMMARY:NOR 92 - Gjelleråsen | Mjøndalshallen
DESCRIPTION:Eliteserien\, menn
URL:https://nor92.com/event/nor-92-gjellerasen-mjondalshallen-2/
END:VEVENT
BEGIN:VEVENT
DTSTART;TZID=UTC:20251128T183000
DTEND;TZID=UTC:20251128T193000
DTSTAMP:20260421T150215
CREATED:20251128T071009Z
LAST-MODIFIED:20251128T071009Z
UID:9411-1764354600-1764358200@nor92.com
SUMMARY:Ski - NOR 92 G13 | Ski Alliansehall
DESCRIPTION:Gutter 13\, nivå 2
URL:https://nor92.com/event/ski-nor-92-g13-ski-alliansehall/
END:VEVENT
BEGIN:VEVENT
DTSTART;TZID=UTC:20251128T201500
DTEND;TZID=UTC:20251128T214500
DTSTAMP:20260421T150215
CREATED:20251128T070844Z
LAST-MODIFIED:20251128T070902Z
UID:9408-1764360900-1764366300@nor92.com
SUMMARY:NOR 92-2 - Vålerenga | Mjøndalshallen
DESCRIPTION:2. divisjon avd. B\, menn
URL:https://nor92.com/event/ellingsrud-valerenga-mjondalshallen/
END:VEVENT
BEGIN:VEVENT
DTSTART;TZID=UTC:20251130T140000
DTEND;TZID=UTC:20251130T143000
DTSTAMP:20260421T150215
CREATED:20251128T071119Z
LAST-MODIFIED:20251128T071119Z
UID:9413-1764511200-1764513000@nor92.com
SUMMARY:NOR 92 G15 - Nesodden | Mjøndalshallen
DESCRIPTION:Gutter 15\, avd. A
URL:https://nor92.com/event/nor-92-g15-nesodden-mjondalshallen/
END:VEVENT
END:VCALENDAR