BEGIN:VCALENDAR
VERSION:2.0
PRODID:-//NOR 92 - ECPv6.15.9//NONSGML v1.0//EN
CALSCALE:GREGORIAN
METHOD:PUBLISH
X-ORIGINAL-URL:https://nor92.com
X-WR-CALDESC:Arrangement for NOR 92
REFRESH-INTERVAL;VALUE=DURATION:PT1H
X-Robots-Tag:noindex
X-PUBLISHED-TTL:PT1H
BEGIN:VTIMEZONE
TZID:UTC
BEGIN:STANDARD
TZOFFSETFROM:+0000
TZOFFSETTO:+0000
TZNAME:UTC
DTSTART:20240101T000000
END:STANDARD
END:VTIMEZONE
BEGIN:VEVENT
DTSTART;TZID=UTC:20251203T190000
DTEND;TZID=UTC:20251203T210000
DTSTAMP:20260421T134530
CREATED:20251114T084344Z
LAST-MODIFIED:20251114T084344Z
UID:9288-1764788400-1764795600@nor92.com
SUMMARY:Tunet - NOR 92 | Høyenhallen
DESCRIPTION:Eliteserien\, menn
URL:https://nor92.com/event/tunet-nor-92-hoyenhallen-2/
END:VEVENT
BEGIN:VEVENT
DTSTART;TZID=UTC:20251205T193000
DTEND;TZID=UTC:20251205T210000
DTSTAMP:20260421T134530
CREATED:20251204T135208Z
LAST-MODIFIED:20251204T135208Z
UID:9560-1764963000-1764968400@nor92.com
SUMMARY:Monolitten 2 - NOR 92-2 | Skøyenhallen
DESCRIPTION:2. divisjon avd. B\, menn
URL:https://nor92.com/event/monolitten-2-nor-92-2-skoyenhallen/
END:VEVENT
BEGIN:VEVENT
DTSTART;TZID=UTC:20251206T133000
DTEND;TZID=UTC:20251206T143000
DTSTAMP:20260421T134530
CREATED:20251204T135300Z
LAST-MODIFIED:20251204T135552Z
UID:9562-1765027800-1765031400@nor92.com
SUMMARY:NOR 92 G11 - Asker 2 | Slattumhallen
DESCRIPTION:Gutter 11\, nivå 2 – avd. B
URL:https://nor92.com/event/nor-92-g11-asker-2-slattumhallen/
END:VEVENT
BEGIN:VEVENT
DTSTART;TZID=UTC:20251206T150000
DTEND;TZID=UTC:20251206T160000
DTSTAMP:20260421T134530
CREATED:20251204T135534Z
LAST-MODIFIED:20251204T135534Z
UID:9566-1765033200-1765036800@nor92.com
SUMMARY:Østensjø - NOR 92 G11 | Slattumhallen
DESCRIPTION:Gutter 11\, nivå 2 – avd. B
URL:https://nor92.com/event/ostensjo-nor-92-g11-slattumhallen/
END:VEVENT
BEGIN:VEVENT
DTSTART;TZID=UTC:20251207T103000
DTEND;TZID=UTC:20251207T113000
DTSTAMP:20260421T134530
CREATED:20251204T135823Z
LAST-MODIFIED:20251204T135823Z
UID:9571-1765103400-1765107000@nor92.com
SUMMARY:Østensjø - NOR 92 G13 | Bøler Idrettshall
DESCRIPTION:Gutter 13\, nivå 2
URL:https://nor92.com/event/ostensjo-nor-92-g13-boler-idrettshall/
END:VEVENT
BEGIN:VEVENT
DTSTART;TZID=UTC:20251214T170000
DTEND;TZID=UTC:20251214T190000
DTSTAMP:20260421T134530
CREATED:20251114T084501Z
LAST-MODIFIED:20251114T084501Z
UID:9290-1765731600-1765738800@nor92.com
SUMMARY:NOR 92 - Sveiva | Mjøndalshallen
DESCRIPTION:Eliteserien\, menn
URL:https://nor92.com/event/nor-92-sveiva-mjondalshallen-2/
END:VEVENT
END:VCALENDAR