BEGIN:VCALENDAR
VERSION:2.0
PRODID:-//NOR 92 - ECPv6.15.9//NONSGML v1.0//EN
CALSCALE:GREGORIAN
METHOD:PUBLISH
X-ORIGINAL-URL:https://nor92.com
X-WR-CALDESC:Arrangement for NOR 92
REFRESH-INTERVAL;VALUE=DURATION:PT1H
X-Robots-Tag:noindex
X-PUBLISHED-TTL:PT1H
BEGIN:VTIMEZONE
TZID:UTC
BEGIN:STANDARD
TZOFFSETFROM:+0000
TZOFFSETTO:+0000
TZNAME:UTC
DTSTART:20250101T000000
END:STANDARD
END:VTIMEZONE
BEGIN:VEVENT
DTSTART;TZID=UTC:20260201T153000
DTEND;TZID=UTC:20260201T163000
DTSTAMP:20260421T105531
CREATED:20260123T131945Z
LAST-MODIFIED:20260123T131945Z
UID:9845-1769959800-1769963400@nor92.com
SUMMARY:NOR 92 G13 - Østensjø | Mjøndalshallen
DESCRIPTION:Gutter 13\, nivå 2
URL:https://nor92.com/event/nor-92-g13-ostensjo-mjondalshallen/
END:VEVENT
BEGIN:VEVENT
DTSTART;TZID=UTC:20260201T170000
DTEND;TZID=UTC:20260201T183000
DTSTAMP:20260421T105531
CREATED:20260123T132041Z
LAST-MODIFIED:20260123T132041Z
UID:9847-1769965200-1769970600@nor92.com
SUMMARY:NOR 92 G15 - Holmlia/Soon | Mjøndalshallen
DESCRIPTION:Gutter 15\, avd. A
URL:https://nor92.com/event/nor-92-g15-holmlia-soon-mjondalshallen/
END:VEVENT
BEGIN:VEVENT
DTSTART;TZID=UTC:20260201T183000
DTEND;TZID=UTC:20260201T200000
DTSTAMP:20260421T105531
CREATED:20260123T132145Z
LAST-MODIFIED:20260123T132145Z
UID:9849-1769970600-1769976000@nor92.com
SUMMARY:NOR 92-2 - Ellingsrud | Mjøndalshallen
DESCRIPTION:2. divisjon avd. B\, menn
URL:https://nor92.com/event/nor-92-2-ellingsrud-mjondalshallen/
END:VEVENT
BEGIN:VEVENT
DTSTART;TZID=UTC:20260206T201500
DTEND;TZID=UTC:20260206T214500
DTSTAMP:20260421T105531
CREATED:20260123T132243Z
LAST-MODIFIED:20260123T132243Z
UID:9851-1770408900-1770414300@nor92.com
SUMMARY:NOR 92-2 - Lyn | Mjøndalshallen
DESCRIPTION:2. divisjon avd. B\, menn
URL:https://nor92.com/event/nor-92-2-lyn-mjondalshallen/
END:VEVENT
BEGIN:VEVENT
DTSTART;TZID=UTC:20260207T092000
DTEND;TZID=UTC:20260207T100000
DTSTAMP:20260421T105531
CREATED:20260202T085521Z
LAST-MODIFIED:20260202T085521Z
UID:9884-1770456000-1770458400@nor92.com
SUMMARY:Tunet Lilla - NOR 92 G/J7 | Bøler Idrettshall
DESCRIPTION:Minirunde
URL:https://nor92.com/event/tunet-lilla-nor-92-g-j7-boler-idrettshall/
END:VEVENT
BEGIN:VEVENT
DTSTART;TZID=UTC:20260207T102000
DTEND;TZID=UTC:20260207T104000
DTSTAMP:20260421T105531
CREATED:20260202T085438Z
LAST-MODIFIED:20260202T085651Z
UID:9882-1770459600-1770460800@nor92.com
SUMMARY:NOR 92 G/J7 - Lambertseter Knøtt | Bøler Idrettshall
DESCRIPTION:Minirunde
URL:https://nor92.com/event/nor-92-g-j7-lambertseter-knott-boler-idrettshall/
END:VEVENT
BEGIN:VEVENT
DTSTART;TZID=UTC:20260207T104000
DTEND;TZID=UTC:20260207T110000
DTSTAMP:20260421T105531
CREATED:20260202T085628Z
LAST-MODIFIED:20260202T085628Z
UID:9886-1770460800-1770462000@nor92.com
SUMMARY:Hasle/Løren - NOR 92 G/J7 | Bøler Idrettshall
DESCRIPTION:Minirunde
URL:https://nor92.com/event/hasle-loren-nor-92-g-j7-boler-idrettshall/
END:VEVENT
BEGIN:VEVENT
DTSTART;TZID=UTC:20260207T120000
DTEND;TZID=UTC:20260207T130000
DTSTAMP:20260421T105531
CREATED:20260202T085737Z
LAST-MODIFIED:20260202T085737Z
UID:9888-1770465600-1770469200@nor92.com
SUMMARY:NOR 92 G13 - Gjerdrum | Mjøndalshallen
DESCRIPTION:Gutter 13\, nivå 2
URL:https://nor92.com/event/nor-92-g13-gjerdrum-mjondalshallen/
END:VEVENT
BEGIN:VEVENT
DTSTART;TZID=UTC:20260213T201500
DTEND;TZID=UTC:20260213T213000
DTSTAMP:20260421T105531
CREATED:20260202T085852Z
LAST-MODIFIED:20260202T085852Z
UID:9890-1771013700-1771018200@nor92.com
SUMMARY:NOR 92 G15 - BSK/GIF | Mjøndalshallen
DESCRIPTION:Gutter 15\, avd. A
URL:https://nor92.com/event/nor-92-g15-bsk-gif-mjondalshallen/
END:VEVENT
BEGIN:VEVENT
DTSTART;TZID=UTC:20260214T113000
DTEND;TZID=UTC:20260214T124500
DTSTAMP:20260421T105531
CREATED:20260202T085947Z
LAST-MODIFIED:20260202T085947Z
UID:9892-1771068600-1771073100@nor92.com
SUMMARY:Tunet - NOR 92 G13 | Høyenhallen
DESCRIPTION:Gutter 13\, nivå 2
URL:https://nor92.com/event/tunet-nor-92-g13-hoyenhallen/
END:VEVENT
BEGIN:VEVENT
DTSTART;TZID=UTC:20260214T153000
DTEND;TZID=UTC:20260214T173000
DTSTAMP:20260421T105531
CREATED:20260202T090037Z
LAST-MODIFIED:20260215T095657Z
UID:9894-1771083000-1771090200@nor92.com
SUMMARY:Vålerenga - NOR 92 | Teglverkshallen
DESCRIPTION:Eliteserien\, menn
URL:https://nor92.com/event/valerenga-nor-92-teglverkshallen-2/
END:VEVENT
BEGIN:VEVENT
DTSTART;TZID=UTC:20260221T130000
DTEND;TZID=UTC:20260221T150000
DTSTAMP:20260421T105531
CREATED:20260215T094117Z
LAST-MODIFIED:20260215T094117Z
UID:9921-1771678800-1771686000@nor92.com
SUMMARY:NOR 92 - Sarpsborg | Mjøndalshallen
DESCRIPTION:Eliteserien\, menn
URL:https://nor92.com/event/nor-92-sarpsborg-mjondalshallen-2/
END:VEVENT
BEGIN:VEVENT
DTSTART;TZID=UTC:20260222T150000
DTEND;TZID=UTC:20260222T170000
DTSTAMP:20260421T105531
CREATED:20260215T094153Z
LAST-MODIFIED:20260215T094153Z
UID:9923-1771772400-1771779600@nor92.com
SUMMARY:NOR 92 - Sandnes | Mjøndalshallen
DESCRIPTION:Eliteserien\, menn
URL:https://nor92.com/event/nor-92-sandnes-mjondalshallen-2/
END:VEVENT
BEGIN:VEVENT
DTSTART;TZID=UTC:20260228T103000
DTEND;TZID=UTC:20260228T113000
DTSTAMP:20260421T105531
CREATED:20260223T084323Z
LAST-MODIFIED:20260223T084328Z
UID:10039-1772274600-1772278200@nor92.com
SUMMARY:Monolitten - NOR 92 G13 | Skøyenhallen
DESCRIPTION:Gutter 13\, nivå 2
URL:https://nor92.com/event/monolitte-nor-92-g13-skoyenhallen/
END:VEVENT
BEGIN:VEVENT
DTSTART;TZID=UTC:20260228T141500
DTEND;TZID=UTC:20260228T151500
DTSTAMP:20260421T105531
CREATED:20260223T084453Z
LAST-MODIFIED:20260223T084453Z
UID:10042-1772288100-1772291700@nor92.com
SUMMARY:NOR 92 G11 - Tunet 2 | Frogner Flerbrukshall C
DESCRIPTION:Gutter 11\, nivå 2 – avd. B
URL:https://nor92.com/event/nor-92-g11-tunet-2-frogner-flerbrukshall-c/
END:VEVENT
BEGIN:VEVENT
DTSTART;TZID=UTC:20260228T150000
DTEND;TZID=UTC:20260228T170000
DTSTAMP:20260421T105531
CREATED:20260223T084154Z
LAST-MODIFIED:20260223T084154Z
UID:10037-1772290800-1772298000@nor92.com
SUMMARY:Gjelleråsen - NOR 92 | Slattumhallen
DESCRIPTION:Eliteserien\, menn
URL:https://nor92.com/event/gjellerasen-nor-92-slattumhallen-2/
END:VEVENT
BEGIN:VEVENT
DTSTART;TZID=UTC:20260228T154500
DTEND;TZID=UTC:20260228T164500
DTSTAMP:20260421T105531
CREATED:20260223T084545Z
LAST-MODIFIED:20260223T084545Z
UID:10044-1772293500-1772297100@nor92.com
SUMMARY:NOR 92 G11 - Holmlia | Frogner Flerbrukshall C
DESCRIPTION:Gutter 11\, nivå 2 – avd. B
URL:https://nor92.com/event/nor-92-g11-holmlia-frogner-flerbrukshall-c/
END:VEVENT
END:VCALENDAR